BEGIN:VCALENDAR
BEGIN:VEVENT
DTSTART:20121121T090000
DTEND:20121122T130000
SUMMARY:Join us on stand 159 at the Emergency Services Show
LOCATION:Stoneleigh Park, Stoneleigh Road, Kenilworth, Warwickshire, CV8 2LZ
DESCRIPTION:BOC Healthcare would like to invite you to visit us at the Emergency Services Show 2012 to see and discuss our latest range of products and services for treatment in pre-hospital emergency care.
CATEGORIES:Trade Fairs and Exhibitions
END:VEVENT
END:VCALENDAR