BEGIN:VCALENDAR
BEGIN:VEVENT
DTSTART:20120913T090000
DTEND:20120914T130000
SUMMARY:Join us to see and discuss our latest range of products and services for effetive acute pain management.
LOCATION:Crowne Plaza, Trinity Street, Chester, CH1 2BD
DESCRIPTION: 
CATEGORIES:Trade Fairs and Exhibitions
END:VEVENT
END:VCALENDAR