BEGIN:VCALENDAR
BEGIN:VEVENT
DTSTART:20111007T000000
SUMMARY:CFO Roadshow Edinburgh
LOCATION:Edinburgh
DESCRIPTION:Download Presentation (PDF 2.06 MB)
CATEGORIES:Conferences and Roadshows
END:VEVENT
END:VCALENDAR